BEGIN:VCALENDAR
VERSION:2.0
PRODID:-//Date iCal v3.3//NONSGML kigkonsult.se iCalcreator 2.20.2//
METHOD:PUBLISH
X-WR-CALNAME;VALUE=TEXT:Paperjam Club Events
BEGIN:VTIMEZONE
TZID:Europe/Paris
BEGIN:STANDARD
DTSTART:20181028T030000
TZOFFSETFROM:+0200
TZOFFSETTO:+0100
TZNAME:CET
END:STANDARD
BEGIN:DAYLIGHT
DTSTART:20190331T020000
TZOFFSETFROM:+0100
TZOFFSETTO:+0200
TZNAME:CEST
END:DAYLIGHT
END:VTIMEZONE
BEGIN:VEVENT
UID:calendar.195718.field_event_date.0@club.paperjam.lu
DTSTAMP:20190122T073353Z
CREATED:20181113T135000Z
DESCRIPTION:Intelligence Artificielle\, IoT\, Deep learning\, expériences i
 mmersives\, chatbots\, stratégies « event driven »... \n\n\n\n\nA l’heure 
 où tout s’accélère\, découvrez les dernières avancées de la révolution dig
 itale en matière d'applications business et de recherche.\n\n\n\nArtificia
 l Intelligence\, IoT\, Deep learning\, immersive experiences\, chatbots\, 
 event driven strategies... \n\n\nAs everything is accelerating\, discover 
 the latest achievements of the digital revolution in terms of research bus
 iness applications.
DTSTART;TZID=Europe/Paris:20190123T183000
DTEND;TZID=Europe/Paris:20190123T223000
LAST-MODIFIED:20190115T093210Z
LOCATION:PwC ( 2 Rue Gerhard Mercator\, 2182 Luxembourg )
SUMMARY:10x6 Technologie : 10 transformations digitales réussies
URL;TYPE=URI:http://club.paperjam.lu/event/10x6-technologie-10-transformati
 ons-digitales-reussies
END:VEVENT
END:VCALENDAR
